BEGIN:VCALENDAR
VERSION:2.0
PRODID:-//Lafayette Electrical Joint Apprentice &amp; Training Committee - ECPv6.15.17.1//NONSGML v1.0//EN
CALSCALE:GREGORIAN
METHOD:PUBLISH
X-ORIGINAL-URL:https://www.lejatc.com
X-WR-CALDESC:Events for Lafayette Electrical Joint Apprentice &amp; Training Committee
REFRESH-INTERVAL;VALUE=DURATION:PT1H
X-Robots-Tag:noindex
X-PUBLISHED-TTL:PT1H
BEGIN:VTIMEZONE
TZID:America/Indiana/Indianapolis
BEGIN:DAYLIGHT
TZOFFSETFROM:-0500
TZOFFSETTO:-0400
TZNAME:EDT
DTSTART:20220313T070000
END:DAYLIGHT
BEGIN:STANDARD
TZOFFSETFROM:-0400
TZOFFSETTO:-0500
TZNAME:EST
DTSTART:20221106T060000
END:STANDARD
BEGIN:DAYLIGHT
TZOFFSETFROM:-0500
TZOFFSETTO:-0400
TZNAME:EDT
DTSTART:20230312T070000
END:DAYLIGHT
BEGIN:STANDARD
TZOFFSETFROM:-0400
TZOFFSETTO:-0500
TZNAME:EST
DTSTART:20231105T060000
END:STANDARD
BEGIN:DAYLIGHT
TZOFFSETFROM:-0500
TZOFFSETTO:-0400
TZNAME:EDT
DTSTART:20240310T070000
END:DAYLIGHT
BEGIN:STANDARD
TZOFFSETFROM:-0400
TZOFFSETTO:-0500
TZNAME:EST
DTSTART:20241103T060000
END:STANDARD
END:VTIMEZONE
BEGIN:VEVENT
DTSTART;TZID=America/Indiana/Indianapolis:20231030T170000
DTEND;TZID=America/Indiana/Indianapolis:20231030T200000
DTSTAMP:20260424T162318
CREATED:20230920T164200Z
LAST-MODIFIED:20230920T164647Z
UID:10002597-1698685200-1698696000@www.lejatc.com
SUMMARY:TELECOMM 1\, 2 & 3
DESCRIPTION:
URL:https://www.lejatc.com/event/telecomm-1-23/2023-10-30
CATEGORIES:1st Semester,Class Schedule
END:VEVENT
BEGIN:VEVENT
DTSTART;TZID=America/Indiana/Indianapolis:20231030T170000
DTEND;TZID=America/Indiana/Indianapolis:20231030T200000
DTSTAMP:20260424T162318
CREATED:20230920T163041Z
LAST-MODIFIED:20230920T163041Z
UID:10002430-1698685200-1698696000@www.lejatc.com
SUMMARY:5th Year: Apprenticeship
DESCRIPTION:
URL:https://www.lejatc.com/event/5th-year-apprenticeship/2023-10-30
CATEGORIES:1st Semester,Class Schedule
END:VEVENT
BEGIN:VEVENT
DTSTART;TZID=America/Indiana/Indianapolis:20231026T173000
DTEND;TZID=America/Indiana/Indianapolis:20231026T200000
DTSTAMP:20260424T162318
CREATED:20230920T162447Z
LAST-MODIFIED:20230920T165252Z
UID:10002377-1698341400-1698350400@www.lejatc.com
SUMMARY:3rd Year: Apprenticeship
DESCRIPTION:
URL:https://www.lejatc.com/event/3rd-year-apprenticeship-2/2023-10-26
CATEGORIES:1st Semester,Class Schedule
END:VEVENT
BEGIN:VEVENT
DTSTART;TZID=America/Indiana/Indianapolis:20231026T173000
DTEND;TZID=America/Indiana/Indianapolis:20231026T200000
DTSTAMP:20260424T162318
CREATED:20230920T160846Z
LAST-MODIFIED:20230920T162051Z
UID:10002328-1698341400-1698350400@www.lejatc.com
SUMMARY:2nd Year: Apprenticeship
DESCRIPTION:
URL:https://www.lejatc.com/event/2nd-year-apprenticeship/2023-10-26
CATEGORIES:1st Semester,Class Schedule
END:VEVENT
BEGIN:VEVENT
DTSTART;TZID=America/Indiana/Indianapolis:20231025T173000
DTEND;TZID=America/Indiana/Indianapolis:20231025T200000
DTSTAMP:20260424T162318
CREATED:20230920T162618Z
LAST-MODIFIED:20230920T163349Z
UID:10002454-1698255000-1698264000@www.lejatc.com
SUMMARY:4th Year: Apprenticeship
DESCRIPTION:
URL:https://www.lejatc.com/event/4th-year-apprenticeship/2023-10-25
CATEGORIES:1st Semester
END:VEVENT
BEGIN:VEVENT
DTSTART;TZID=America/Indiana/Indianapolis:20231025T170000
DTEND;TZID=America/Indiana/Indianapolis:20231025T200000
DTSTAMP:20260424T162318
CREATED:20230920T164200Z
LAST-MODIFIED:20230920T164647Z
UID:10002596-1698253200-1698264000@www.lejatc.com
SUMMARY:TELECOMM 1\, 2 & 3
DESCRIPTION:
URL:https://www.lejatc.com/event/telecomm-1-23/2023-10-25
CATEGORIES:1st Semester,Class Schedule
END:VEVENT
BEGIN:VEVENT
DTSTART;TZID=America/Indiana/Indianapolis:20231025T170000
DTEND;TZID=America/Indiana/Indianapolis:20231025T200000
DTSTAMP:20260424T162318
CREATED:20230920T163041Z
LAST-MODIFIED:20230920T163041Z
UID:10002429-1698253200-1698264000@www.lejatc.com
SUMMARY:5th Year: Apprenticeship
DESCRIPTION:
URL:https://www.lejatc.com/event/5th-year-apprenticeship/2023-10-25
CATEGORIES:1st Semester,Class Schedule
END:VEVENT
BEGIN:VEVENT
DTSTART;TZID=America/Indiana/Indianapolis:20231024T180000
DTEND;TZID=America/Indiana/Indianapolis:20231024T200000
DTSTAMP:20260424T162318
CREATED:20230920T162403Z
LAST-MODIFIED:20230920T162403Z
UID:10002363-1698170400-1698177600@www.lejatc.com
SUMMARY:3rd Year: Communications
DESCRIPTION:
URL:https://www.lejatc.com/event/3rd-year-communications/2023-10-24
CATEGORIES:1st Semester,Class Schedule
END:VEVENT
BEGIN:VEVENT
DTSTART;TZID=America/Indiana/Indianapolis:20231024T173000
DTEND;TZID=America/Indiana/Indianapolis:20231024T200000
DTSTAMP:20260424T162318
CREATED:20230920T160846Z
LAST-MODIFIED:20230920T162051Z
UID:10002327-1698168600-1698177600@www.lejatc.com
SUMMARY:2nd Year: Apprenticeship
DESCRIPTION:
URL:https://www.lejatc.com/event/2nd-year-apprenticeship/2023-10-24
CATEGORIES:1st Semester,Class Schedule
END:VEVENT
BEGIN:VEVENT
DTSTART;TZID=America/Indiana/Indianapolis:20231023T173000
DTEND;TZID=America/Indiana/Indianapolis:20231023T200000
DTSTAMP:20260424T162318
CREATED:20230920T162618Z
LAST-MODIFIED:20230920T163349Z
UID:10002453-1698082200-1698091200@www.lejatc.com
SUMMARY:4th Year: Apprenticeship
DESCRIPTION:
URL:https://www.lejatc.com/event/4th-year-apprenticeship/2023-10-23
CATEGORIES:1st Semester
END:VEVENT
BEGIN:VEVENT
DTSTART;TZID=America/Indiana/Indianapolis:20231023T170000
DTEND;TZID=America/Indiana/Indianapolis:20231023T200000
DTSTAMP:20260424T162318
CREATED:20230920T164200Z
LAST-MODIFIED:20230920T164647Z
UID:10002595-1698080400-1698091200@www.lejatc.com
SUMMARY:TELECOMM 1\, 2 & 3
DESCRIPTION:
URL:https://www.lejatc.com/event/telecomm-1-23/2023-10-23
CATEGORIES:1st Semester,Class Schedule
END:VEVENT
BEGIN:VEVENT
DTSTART;TZID=America/Indiana/Indianapolis:20231023T170000
DTEND;TZID=America/Indiana/Indianapolis:20231023T200000
DTSTAMP:20260424T162318
CREATED:20230920T163041Z
LAST-MODIFIED:20230920T163041Z
UID:10002428-1698080400-1698091200@www.lejatc.com
SUMMARY:5th Year: Apprenticeship
DESCRIPTION:
URL:https://www.lejatc.com/event/5th-year-apprenticeship/2023-10-23
CATEGORIES:1st Semester,Class Schedule
END:VEVENT
BEGIN:VEVENT
DTSTART;TZID=America/Indiana/Indianapolis:20231019T173000
DTEND;TZID=America/Indiana/Indianapolis:20231019T200000
DTSTAMP:20260424T162318
CREATED:20230920T162447Z
LAST-MODIFIED:20230920T165252Z
UID:10002376-1697736600-1697745600@www.lejatc.com
SUMMARY:3rd Year: Apprenticeship
DESCRIPTION:
URL:https://www.lejatc.com/event/3rd-year-apprenticeship-2/2023-10-19
CATEGORIES:1st Semester,Class Schedule
END:VEVENT
BEGIN:VEVENT
DTSTART;TZID=America/Indiana/Indianapolis:20231019T173000
DTEND;TZID=America/Indiana/Indianapolis:20231019T200000
DTSTAMP:20260424T162318
CREATED:20230920T160846Z
LAST-MODIFIED:20230920T162051Z
UID:10002326-1697736600-1697745600@www.lejatc.com
SUMMARY:2nd Year: Apprenticeship
DESCRIPTION:
URL:https://www.lejatc.com/event/2nd-year-apprenticeship/2023-10-19
CATEGORIES:1st Semester,Class Schedule
END:VEVENT
BEGIN:VEVENT
DTSTART;TZID=America/Indiana/Indianapolis:20231018T173000
DTEND;TZID=America/Indiana/Indianapolis:20231018T200000
DTSTAMP:20260424T162318
CREATED:20230920T162618Z
LAST-MODIFIED:20230920T163349Z
UID:10002452-1697650200-1697659200@www.lejatc.com
SUMMARY:4th Year: Apprenticeship
DESCRIPTION:
URL:https://www.lejatc.com/event/4th-year-apprenticeship/2023-10-18
CATEGORIES:1st Semester
END:VEVENT
BEGIN:VEVENT
DTSTART;TZID=America/Indiana/Indianapolis:20231018T170000
DTEND;TZID=America/Indiana/Indianapolis:20231018T200000
DTSTAMP:20260424T162318
CREATED:20230920T164200Z
LAST-MODIFIED:20230920T164647Z
UID:10002594-1697648400-1697659200@www.lejatc.com
SUMMARY:TELECOMM 1\, 2 & 3
DESCRIPTION:
URL:https://www.lejatc.com/event/telecomm-1-23/2023-10-18
CATEGORIES:1st Semester,Class Schedule
END:VEVENT
BEGIN:VEVENT
DTSTART;TZID=America/Indiana/Indianapolis:20231018T170000
DTEND;TZID=America/Indiana/Indianapolis:20231018T200000
DTSTAMP:20260424T162318
CREATED:20230920T163041Z
LAST-MODIFIED:20230920T163041Z
UID:10002427-1697648400-1697659200@www.lejatc.com
SUMMARY:5th Year: Apprenticeship
DESCRIPTION:
URL:https://www.lejatc.com/event/5th-year-apprenticeship/2023-10-18
CATEGORIES:1st Semester,Class Schedule
END:VEVENT
BEGIN:VEVENT
DTSTART;TZID=America/Indiana/Indianapolis:20231017T180000
DTEND;TZID=America/Indiana/Indianapolis:20231017T200000
DTSTAMP:20260424T162318
CREATED:20230920T162403Z
LAST-MODIFIED:20230920T162403Z
UID:10002362-1697565600-1697572800@www.lejatc.com
SUMMARY:3rd Year: Communications
DESCRIPTION:
URL:https://www.lejatc.com/event/3rd-year-communications/2023-10-17
CATEGORIES:1st Semester,Class Schedule
END:VEVENT
BEGIN:VEVENT
DTSTART;TZID=America/Indiana/Indianapolis:20231017T173000
DTEND;TZID=America/Indiana/Indianapolis:20231017T200000
DTSTAMP:20260424T162318
CREATED:20230920T160846Z
LAST-MODIFIED:20230920T162051Z
UID:10002325-1697563800-1697572800@www.lejatc.com
SUMMARY:2nd Year: Apprenticeship
DESCRIPTION:
URL:https://www.lejatc.com/event/2nd-year-apprenticeship/2023-10-17
CATEGORIES:1st Semester,Class Schedule
END:VEVENT
BEGIN:VEVENT
DTSTART;TZID=America/Indiana/Indianapolis:20231016T173000
DTEND;TZID=America/Indiana/Indianapolis:20231016T200000
DTSTAMP:20260424T162318
CREATED:20230920T162618Z
LAST-MODIFIED:20230920T163349Z
UID:10002451-1697477400-1697486400@www.lejatc.com
SUMMARY:4th Year: Apprenticeship
DESCRIPTION:
URL:https://www.lejatc.com/event/4th-year-apprenticeship/2023-10-16
CATEGORIES:1st Semester
END:VEVENT
BEGIN:VEVENT
DTSTART;TZID=America/Indiana/Indianapolis:20231016T170000
DTEND;TZID=America/Indiana/Indianapolis:20231016T200000
DTSTAMP:20260424T162318
CREATED:20230920T164200Z
LAST-MODIFIED:20230920T164647Z
UID:10002593-1697475600-1697486400@www.lejatc.com
SUMMARY:TELECOMM 1\, 2 & 3
DESCRIPTION:
URL:https://www.lejatc.com/event/telecomm-1-23/2023-10-16
CATEGORIES:1st Semester,Class Schedule
END:VEVENT
BEGIN:VEVENT
DTSTART;TZID=America/Indiana/Indianapolis:20231016T170000
DTEND;TZID=America/Indiana/Indianapolis:20231016T200000
DTSTAMP:20260424T162318
CREATED:20230920T163041Z
LAST-MODIFIED:20230920T163041Z
UID:10002426-1697475600-1697486400@www.lejatc.com
SUMMARY:5th Year: Apprenticeship
DESCRIPTION:
URL:https://www.lejatc.com/event/5th-year-apprenticeship/2023-10-16
CATEGORIES:1st Semester,Class Schedule
END:VEVENT
BEGIN:VEVENT
DTSTART;TZID=America/Indiana/Indianapolis:20231012T173000
DTEND;TZID=America/Indiana/Indianapolis:20231012T200000
DTSTAMP:20260424T162318
CREATED:20230920T162447Z
LAST-MODIFIED:20230920T165252Z
UID:10002375-1697131800-1697140800@www.lejatc.com
SUMMARY:3rd Year: Apprenticeship
DESCRIPTION:
URL:https://www.lejatc.com/event/3rd-year-apprenticeship-2/2023-10-12
CATEGORIES:1st Semester,Class Schedule
END:VEVENT
BEGIN:VEVENT
DTSTART;TZID=America/Indiana/Indianapolis:20231012T173000
DTEND;TZID=America/Indiana/Indianapolis:20231012T200000
DTSTAMP:20260424T162318
CREATED:20230920T160846Z
LAST-MODIFIED:20230920T162051Z
UID:10002324-1697131800-1697140800@www.lejatc.com
SUMMARY:2nd Year: Apprenticeship
DESCRIPTION:
URL:https://www.lejatc.com/event/2nd-year-apprenticeship/2023-10-12
CATEGORIES:1st Semester,Class Schedule
END:VEVENT
BEGIN:VEVENT
DTSTART;TZID=America/Indiana/Indianapolis:20231011T173000
DTEND;TZID=America/Indiana/Indianapolis:20231011T200000
DTSTAMP:20260424T162318
CREATED:20230920T162618Z
LAST-MODIFIED:20230920T163349Z
UID:10002450-1697045400-1697054400@www.lejatc.com
SUMMARY:4th Year: Apprenticeship
DESCRIPTION:
URL:https://www.lejatc.com/event/4th-year-apprenticeship/2023-10-11
CATEGORIES:1st Semester
END:VEVENT
BEGIN:VEVENT
DTSTART;TZID=America/Indiana/Indianapolis:20231011T170000
DTEND;TZID=America/Indiana/Indianapolis:20231011T200000
DTSTAMP:20260424T162318
CREATED:20230920T164200Z
LAST-MODIFIED:20230920T164647Z
UID:10002592-1697043600-1697054400@www.lejatc.com
SUMMARY:TELECOMM 1\, 2 & 3
DESCRIPTION:
URL:https://www.lejatc.com/event/telecomm-1-23/2023-10-11
CATEGORIES:1st Semester,Class Schedule
END:VEVENT
BEGIN:VEVENT
DTSTART;TZID=America/Indiana/Indianapolis:20231011T170000
DTEND;TZID=America/Indiana/Indianapolis:20231011T200000
DTSTAMP:20260424T162318
CREATED:20230920T163041Z
LAST-MODIFIED:20230920T163041Z
UID:10002425-1697043600-1697054400@www.lejatc.com
SUMMARY:5th Year: Apprenticeship
DESCRIPTION:
URL:https://www.lejatc.com/event/5th-year-apprenticeship/2023-10-11
CATEGORIES:1st Semester,Class Schedule
END:VEVENT
BEGIN:VEVENT
DTSTART;TZID=America/Indiana/Indianapolis:20231010T180000
DTEND;TZID=America/Indiana/Indianapolis:20231010T200000
DTSTAMP:20260424T162318
CREATED:20230920T162403Z
LAST-MODIFIED:20230920T162403Z
UID:10002361-1696960800-1696968000@www.lejatc.com
SUMMARY:3rd Year: Communications
DESCRIPTION:
URL:https://www.lejatc.com/event/3rd-year-communications/2023-10-10
CATEGORIES:1st Semester,Class Schedule
END:VEVENT
BEGIN:VEVENT
DTSTART;TZID=America/Indiana/Indianapolis:20231010T173000
DTEND;TZID=America/Indiana/Indianapolis:20231010T200000
DTSTAMP:20260424T162318
CREATED:20230920T160846Z
LAST-MODIFIED:20230920T162051Z
UID:10002323-1696959000-1696968000@www.lejatc.com
SUMMARY:2nd Year: Apprenticeship
DESCRIPTION:
URL:https://www.lejatc.com/event/2nd-year-apprenticeship/2023-10-10
CATEGORIES:1st Semester,Class Schedule
END:VEVENT
BEGIN:VEVENT
DTSTART;TZID=America/Indiana/Indianapolis:20231005T173000
DTEND;TZID=America/Indiana/Indianapolis:20231005T200000
DTSTAMP:20260424T162318
CREATED:20230920T162447Z
LAST-MODIFIED:20230920T165252Z
UID:10002374-1696527000-1696536000@www.lejatc.com
SUMMARY:3rd Year: Apprenticeship
DESCRIPTION:
URL:https://www.lejatc.com/event/3rd-year-apprenticeship-2/2023-10-05
CATEGORIES:1st Semester,Class Schedule
END:VEVENT
END:VCALENDAR