BEGIN:VCALENDAR
VERSION:2.0
PRODID:-//Lafayette Electrical Joint Apprentice &amp; Training Committee - ECPv6.15.17.1//NONSGML v1.0//EN
CALSCALE:GREGORIAN
METHOD:PUBLISH
X-WR-CALNAME:Lafayette Electrical Joint Apprentice &amp; Training Committee
X-ORIGINAL-URL:https://www.lejatc.com
X-WR-CALDESC:Events for Lafayette Electrical Joint Apprentice &amp; Training Committee
REFRESH-INTERVAL;VALUE=DURATION:PT1H
X-Robots-Tag:noindex
X-PUBLISHED-TTL:PT1H
BEGIN:VTIMEZONE
TZID:America/Indiana/Indianapolis
BEGIN:DAYLIGHT
TZOFFSETFROM:-0500
TZOFFSETTO:-0400
TZNAME:EDT
DTSTART:20220313T070000
END:DAYLIGHT
BEGIN:STANDARD
TZOFFSETFROM:-0400
TZOFFSETTO:-0500
TZNAME:EST
DTSTART:20221106T060000
END:STANDARD
BEGIN:DAYLIGHT
TZOFFSETFROM:-0500
TZOFFSETTO:-0400
TZNAME:EDT
DTSTART:20230312T070000
END:DAYLIGHT
BEGIN:STANDARD
TZOFFSETFROM:-0400
TZOFFSETTO:-0500
TZNAME:EST
DTSTART:20231105T060000
END:STANDARD
BEGIN:DAYLIGHT
TZOFFSETFROM:-0500
TZOFFSETTO:-0400
TZNAME:EDT
DTSTART:20240310T070000
END:DAYLIGHT
BEGIN:STANDARD
TZOFFSETFROM:-0400
TZOFFSETTO:-0500
TZNAME:EST
DTSTART:20241103T060000
END:STANDARD
END:VTIMEZONE
BEGIN:VEVENT
DTSTART;TZID=America/Indiana/Indianapolis:20231129T170000
DTEND;TZID=America/Indiana/Indianapolis:20231129T200000
DTSTAMP:20260424T114418
CREATED:20230920T162913Z
LAST-MODIFIED:20230920T162913Z
UID:10002414-1701277200-1701288000@www.lejatc.com
SUMMARY:1st Year: Apprenticeship
DESCRIPTION:
URL:https://www.lejatc.com/event/1st-year-apprenticeship/2023-11-29
CATEGORIES:1st Semester,Class Schedule
END:VEVENT
BEGIN:VEVENT
DTSTART;TZID=America/Indiana/Indianapolis:20231128T180000
DTEND;TZID=America/Indiana/Indianapolis:20231128T200000
DTSTAMP:20260424T114418
CREATED:20230920T162403Z
LAST-MODIFIED:20230920T162403Z
UID:10002368-1701194400-1701201600@www.lejatc.com
SUMMARY:3rd Year: Communications
DESCRIPTION:
URL:https://www.lejatc.com/event/3rd-year-communications/2023-11-28
CATEGORIES:1st Semester,Class Schedule
END:VEVENT
BEGIN:VEVENT
DTSTART;TZID=America/Indiana/Indianapolis:20231128T173000
DTEND;TZID=America/Indiana/Indianapolis:20231128T200000
DTSTAMP:20260424T114418
CREATED:20230920T160846Z
LAST-MODIFIED:20230920T162051Z
UID:10002336-1701192600-1701201600@www.lejatc.com
SUMMARY:2nd Year: Apprenticeship
DESCRIPTION:
URL:https://www.lejatc.com/event/2nd-year-apprenticeship/2023-11-28
CATEGORIES:1st Semester,Class Schedule
END:VEVENT
BEGIN:VEVENT
DTSTART;TZID=America/Indiana/Indianapolis:20231127T173000
DTEND;TZID=America/Indiana/Indianapolis:20231127T200000
DTSTAMP:20260424T114418
CREATED:20230920T162618Z
LAST-MODIFIED:20230920T163349Z
UID:10002461-1701106200-1701115200@www.lejatc.com
SUMMARY:4th Year: Apprenticeship
DESCRIPTION:
URL:https://www.lejatc.com/event/4th-year-apprenticeship/2023-11-27
CATEGORIES:1st Semester
END:VEVENT
BEGIN:VEVENT
DTSTART;TZID=America/Indiana/Indianapolis:20231127T170000
DTEND;TZID=America/Indiana/Indianapolis:20231127T200000
DTSTAMP:20260424T114418
CREATED:20230920T164200Z
LAST-MODIFIED:20230920T164647Z
UID:10002603-1701104400-1701115200@www.lejatc.com
SUMMARY:TELECOMM 1\, 2 & 3
DESCRIPTION:
URL:https://www.lejatc.com/event/telecomm-1-23/2023-11-27
CATEGORIES:1st Semester,Class Schedule
END:VEVENT
BEGIN:VEVENT
DTSTART;TZID=America/Indiana/Indianapolis:20231127T170000
DTEND;TZID=America/Indiana/Indianapolis:20231127T200000
DTSTAMP:20260424T114418
CREATED:20230920T163041Z
LAST-MODIFIED:20230920T163041Z
UID:10002436-1701104400-1701115200@www.lejatc.com
SUMMARY:5th Year: Apprenticeship
DESCRIPTION:
URL:https://www.lejatc.com/event/5th-year-apprenticeship/2023-11-27
CATEGORIES:1st Semester,Class Schedule
END:VEVENT
BEGIN:VEVENT
DTSTART;TZID=America/Indiana/Indianapolis:20231121T180000
DTEND;TZID=America/Indiana/Indianapolis:20231121T200000
DTSTAMP:20260424T114418
CREATED:20230920T162403Z
LAST-MODIFIED:20230920T162403Z
UID:10002367-1700589600-1700596800@www.lejatc.com
SUMMARY:3rd Year: Communications
DESCRIPTION:
URL:https://www.lejatc.com/event/3rd-year-communications/2023-11-21
CATEGORIES:1st Semester,Class Schedule
END:VEVENT
BEGIN:VEVENT
DTSTART;TZID=America/Indiana/Indianapolis:20231121T173000
DTEND;TZID=America/Indiana/Indianapolis:20231121T200000
DTSTAMP:20260424T114418
CREATED:20230920T160846Z
LAST-MODIFIED:20230920T162051Z
UID:10002335-1700587800-1700596800@www.lejatc.com
SUMMARY:2nd Year: Apprenticeship
DESCRIPTION:
URL:https://www.lejatc.com/event/2nd-year-apprenticeship/2023-11-21
CATEGORIES:1st Semester,Class Schedule
END:VEVENT
BEGIN:VEVENT
DTSTART;TZID=America/Indiana/Indianapolis:20231120T173000
DTEND;TZID=America/Indiana/Indianapolis:20231120T200000
DTSTAMP:20260424T114418
CREATED:20230920T162618Z
LAST-MODIFIED:20230920T163349Z
UID:10002460-1700501400-1700510400@www.lejatc.com
SUMMARY:4th Year: Apprenticeship
DESCRIPTION:
URL:https://www.lejatc.com/event/4th-year-apprenticeship/2023-11-20
CATEGORIES:1st Semester
END:VEVENT
BEGIN:VEVENT
DTSTART;TZID=America/Indiana/Indianapolis:20231120T170000
DTEND;TZID=America/Indiana/Indianapolis:20231120T200000
DTSTAMP:20260424T114418
CREATED:20230920T164200Z
LAST-MODIFIED:20230920T164647Z
UID:10002602-1700499600-1700510400@www.lejatc.com
SUMMARY:TELECOMM 1\, 2 & 3
DESCRIPTION:
URL:https://www.lejatc.com/event/telecomm-1-23/2023-11-20
CATEGORIES:1st Semester,Class Schedule
END:VEVENT
BEGIN:VEVENT
DTSTART;TZID=America/Indiana/Indianapolis:20231120T170000
DTEND;TZID=America/Indiana/Indianapolis:20231120T200000
DTSTAMP:20260424T114418
CREATED:20230920T163041Z
LAST-MODIFIED:20230920T163041Z
UID:10002435-1700499600-1700510400@www.lejatc.com
SUMMARY:5th Year: Apprenticeship
DESCRIPTION:
URL:https://www.lejatc.com/event/5th-year-apprenticeship/2023-11-20
CATEGORIES:1st Semester,Class Schedule
END:VEVENT
BEGIN:VEVENT
DTSTART;TZID=America/Indiana/Indianapolis:20231116T173000
DTEND;TZID=America/Indiana/Indianapolis:20231116T200000
DTSTAMP:20260424T114418
CREATED:20230920T162447Z
LAST-MODIFIED:20230920T165252Z
UID:10002380-1700155800-1700164800@www.lejatc.com
SUMMARY:3rd Year: Apprenticeship
DESCRIPTION:
URL:https://www.lejatc.com/event/3rd-year-apprenticeship-2/2023-11-16
CATEGORIES:1st Semester,Class Schedule
END:VEVENT
BEGIN:VEVENT
DTSTART;TZID=America/Indiana/Indianapolis:20231116T173000
DTEND;TZID=America/Indiana/Indianapolis:20231116T200000
DTSTAMP:20260424T114418
CREATED:20230920T160846Z
LAST-MODIFIED:20230920T162051Z
UID:10002334-1700155800-1700164800@www.lejatc.com
SUMMARY:2nd Year: Apprenticeship
DESCRIPTION:
URL:https://www.lejatc.com/event/2nd-year-apprenticeship/2023-11-16
CATEGORIES:1st Semester,Class Schedule
END:VEVENT
BEGIN:VEVENT
DTSTART;TZID=America/Indiana/Indianapolis:20231115T173000
DTEND;TZID=America/Indiana/Indianapolis:20231115T200000
DTSTAMP:20260424T114418
CREATED:20230920T162618Z
LAST-MODIFIED:20230920T163349Z
UID:10002459-1700069400-1700078400@www.lejatc.com
SUMMARY:4th Year: Apprenticeship
DESCRIPTION:
URL:https://www.lejatc.com/event/4th-year-apprenticeship/2023-11-15
CATEGORIES:1st Semester
END:VEVENT
BEGIN:VEVENT
DTSTART;TZID=America/Indiana/Indianapolis:20231115T170000
DTEND;TZID=America/Indiana/Indianapolis:20231115T200000
DTSTAMP:20260424T114418
CREATED:20230920T164200Z
LAST-MODIFIED:20230920T164647Z
UID:10002601-1700067600-1700078400@www.lejatc.com
SUMMARY:TELECOMM 1\, 2 & 3
DESCRIPTION:
URL:https://www.lejatc.com/event/telecomm-1-23/2023-11-15
CATEGORIES:1st Semester,Class Schedule
END:VEVENT
BEGIN:VEVENT
DTSTART;TZID=America/Indiana/Indianapolis:20231115T170000
DTEND;TZID=America/Indiana/Indianapolis:20231115T200000
DTSTAMP:20260424T114418
CREATED:20230920T163041Z
LAST-MODIFIED:20230920T163041Z
UID:10002434-1700067600-1700078400@www.lejatc.com
SUMMARY:5th Year: Apprenticeship
DESCRIPTION:
URL:https://www.lejatc.com/event/5th-year-apprenticeship/2023-11-15
CATEGORIES:1st Semester,Class Schedule
END:VEVENT
BEGIN:VEVENT
DTSTART;TZID=America/Indiana/Indianapolis:20231114T180000
DTEND;TZID=America/Indiana/Indianapolis:20231114T200000
DTSTAMP:20260424T114418
CREATED:20230920T162403Z
LAST-MODIFIED:20230920T162403Z
UID:10002366-1699984800-1699992000@www.lejatc.com
SUMMARY:3rd Year: Communications
DESCRIPTION:
URL:https://www.lejatc.com/event/3rd-year-communications/2023-11-14
CATEGORIES:1st Semester,Class Schedule
END:VEVENT
BEGIN:VEVENT
DTSTART;TZID=America/Indiana/Indianapolis:20231114T173000
DTEND;TZID=America/Indiana/Indianapolis:20231114T200000
DTSTAMP:20260424T114418
CREATED:20230920T160846Z
LAST-MODIFIED:20230920T162051Z
UID:10002333-1699983000-1699992000@www.lejatc.com
SUMMARY:2nd Year: Apprenticeship
DESCRIPTION:
URL:https://www.lejatc.com/event/2nd-year-apprenticeship/2023-11-14
CATEGORIES:1st Semester,Class Schedule
END:VEVENT
BEGIN:VEVENT
DTSTART;TZID=America/Indiana/Indianapolis:20231109T173000
DTEND;TZID=America/Indiana/Indianapolis:20231109T200000
DTSTAMP:20260424T114418
CREATED:20230920T162447Z
LAST-MODIFIED:20230920T165252Z
UID:10002379-1699551000-1699560000@www.lejatc.com
SUMMARY:3rd Year: Apprenticeship
DESCRIPTION:
URL:https://www.lejatc.com/event/3rd-year-apprenticeship-2/2023-11-09
CATEGORIES:1st Semester,Class Schedule
END:VEVENT
BEGIN:VEVENT
DTSTART;TZID=America/Indiana/Indianapolis:20231109T173000
DTEND;TZID=America/Indiana/Indianapolis:20231109T200000
DTSTAMP:20260424T114418
CREATED:20230920T160846Z
LAST-MODIFIED:20230920T162051Z
UID:10002332-1699551000-1699560000@www.lejatc.com
SUMMARY:2nd Year: Apprenticeship
DESCRIPTION:
URL:https://www.lejatc.com/event/2nd-year-apprenticeship/2023-11-09
CATEGORIES:1st Semester,Class Schedule
END:VEVENT
BEGIN:VEVENT
DTSTART;TZID=America/Indiana/Indianapolis:20231108T173000
DTEND;TZID=America/Indiana/Indianapolis:20231108T200000
DTSTAMP:20260424T114418
CREATED:20230920T162618Z
LAST-MODIFIED:20230920T163349Z
UID:10002458-1699464600-1699473600@www.lejatc.com
SUMMARY:4th Year: Apprenticeship
DESCRIPTION:
URL:https://www.lejatc.com/event/4th-year-apprenticeship/2023-11-08
CATEGORIES:1st Semester
END:VEVENT
BEGIN:VEVENT
DTSTART;TZID=America/Indiana/Indianapolis:20231108T170000
DTEND;TZID=America/Indiana/Indianapolis:20231108T200000
DTSTAMP:20260424T114418
CREATED:20230920T164200Z
LAST-MODIFIED:20230920T164647Z
UID:10002600-1699462800-1699473600@www.lejatc.com
SUMMARY:TELECOMM 1\, 2 & 3
DESCRIPTION:
URL:https://www.lejatc.com/event/telecomm-1-23/2023-11-08
CATEGORIES:1st Semester,Class Schedule
END:VEVENT
BEGIN:VEVENT
DTSTART;TZID=America/Indiana/Indianapolis:20231108T170000
DTEND;TZID=America/Indiana/Indianapolis:20231108T200000
DTSTAMP:20260424T114418
CREATED:20230920T163041Z
LAST-MODIFIED:20230920T163041Z
UID:10002433-1699462800-1699473600@www.lejatc.com
SUMMARY:5th Year: Apprenticeship
DESCRIPTION:
URL:https://www.lejatc.com/event/5th-year-apprenticeship/2023-11-08
CATEGORIES:1st Semester,Class Schedule
END:VEVENT
BEGIN:VEVENT
DTSTART;TZID=America/Indiana/Indianapolis:20231107T180000
DTEND;TZID=America/Indiana/Indianapolis:20231107T200000
DTSTAMP:20260424T114418
CREATED:20230920T162403Z
LAST-MODIFIED:20230920T162403Z
UID:10002365-1699380000-1699387200@www.lejatc.com
SUMMARY:3rd Year: Communications
DESCRIPTION:
URL:https://www.lejatc.com/event/3rd-year-communications/2023-11-07
CATEGORIES:1st Semester,Class Schedule
END:VEVENT
BEGIN:VEVENT
DTSTART;TZID=America/Indiana/Indianapolis:20231107T173000
DTEND;TZID=America/Indiana/Indianapolis:20231107T200000
DTSTAMP:20260424T114418
CREATED:20230920T160846Z
LAST-MODIFIED:20230920T162051Z
UID:10002331-1699378200-1699387200@www.lejatc.com
SUMMARY:2nd Year: Apprenticeship
DESCRIPTION:
URL:https://www.lejatc.com/event/2nd-year-apprenticeship/2023-11-07
CATEGORIES:1st Semester,Class Schedule
END:VEVENT
BEGIN:VEVENT
DTSTART;TZID=America/Indiana/Indianapolis:20231106T173000
DTEND;TZID=America/Indiana/Indianapolis:20231106T200000
DTSTAMP:20260424T114418
CREATED:20230920T162618Z
LAST-MODIFIED:20230920T163349Z
UID:10002457-1699291800-1699300800@www.lejatc.com
SUMMARY:4th Year: Apprenticeship
DESCRIPTION:
URL:https://www.lejatc.com/event/4th-year-apprenticeship/2023-11-06
CATEGORIES:1st Semester
END:VEVENT
BEGIN:VEVENT
DTSTART;TZID=America/Indiana/Indianapolis:20231106T170000
DTEND;TZID=America/Indiana/Indianapolis:20231106T200000
DTSTAMP:20260424T114418
CREATED:20230920T164200Z
LAST-MODIFIED:20230920T164647Z
UID:10002599-1699290000-1699300800@www.lejatc.com
SUMMARY:TELECOMM 1\, 2 & 3
DESCRIPTION:
URL:https://www.lejatc.com/event/telecomm-1-23/2023-11-06
CATEGORIES:1st Semester,Class Schedule
END:VEVENT
BEGIN:VEVENT
DTSTART;TZID=America/Indiana/Indianapolis:20231106T170000
DTEND;TZID=America/Indiana/Indianapolis:20231106T200000
DTSTAMP:20260424T114418
CREATED:20230920T163041Z
LAST-MODIFIED:20230920T163041Z
UID:10002432-1699290000-1699300800@www.lejatc.com
SUMMARY:5th Year: Apprenticeship
DESCRIPTION:
URL:https://www.lejatc.com/event/5th-year-apprenticeship/2023-11-06
CATEGORIES:1st Semester,Class Schedule
END:VEVENT
BEGIN:VEVENT
DTSTART;TZID=America/Indiana/Indianapolis:20231102T173000
DTEND;TZID=America/Indiana/Indianapolis:20231102T200000
DTSTAMP:20260424T114418
CREATED:20230920T162447Z
LAST-MODIFIED:20230920T165252Z
UID:10002378-1698946200-1698955200@www.lejatc.com
SUMMARY:3rd Year: Apprenticeship
DESCRIPTION:
URL:https://www.lejatc.com/event/3rd-year-apprenticeship-2/2023-11-02
CATEGORIES:1st Semester,Class Schedule
END:VEVENT
BEGIN:VEVENT
DTSTART;TZID=America/Indiana/Indianapolis:20231102T173000
DTEND;TZID=America/Indiana/Indianapolis:20231102T200000
DTSTAMP:20260424T114418
CREATED:20230920T160846Z
LAST-MODIFIED:20230920T162051Z
UID:10002330-1698946200-1698955200@www.lejatc.com
SUMMARY:2nd Year: Apprenticeship
DESCRIPTION:
URL:https://www.lejatc.com/event/2nd-year-apprenticeship/2023-11-02
CATEGORIES:1st Semester,Class Schedule
END:VEVENT
END:VCALENDAR