BEGIN:VCALENDAR
VERSION:2.0
PRODID:-//Lafayette Electrical Joint Apprentice &amp; Training Committee - ECPv6.15.17.1//NONSGML v1.0//EN
CALSCALE:GREGORIAN
METHOD:PUBLISH
X-WR-CALNAME:Lafayette Electrical Joint Apprentice &amp; Training Committee
X-ORIGINAL-URL:https://www.lejatc.com
X-WR-CALDESC:Events for Lafayette Electrical Joint Apprentice &amp; Training Committee
REFRESH-INTERVAL;VALUE=DURATION:PT1H
X-Robots-Tag:noindex
X-PUBLISHED-TTL:PT1H
BEGIN:VTIMEZONE
TZID:America/Indiana/Indianapolis
BEGIN:DAYLIGHT
TZOFFSETFROM:-0500
TZOFFSETTO:-0400
TZNAME:EDT
DTSTART:20220313T070000
END:DAYLIGHT
BEGIN:STANDARD
TZOFFSETFROM:-0400
TZOFFSETTO:-0500
TZNAME:EST
DTSTART:20221106T060000
END:STANDARD
BEGIN:DAYLIGHT
TZOFFSETFROM:-0500
TZOFFSETTO:-0400
TZNAME:EDT
DTSTART:20230312T070000
END:DAYLIGHT
BEGIN:STANDARD
TZOFFSETFROM:-0400
TZOFFSETTO:-0500
TZNAME:EST
DTSTART:20231105T060000
END:STANDARD
BEGIN:DAYLIGHT
TZOFFSETFROM:-0500
TZOFFSETTO:-0400
TZNAME:EDT
DTSTART:20240310T070000
END:DAYLIGHT
BEGIN:STANDARD
TZOFFSETFROM:-0400
TZOFFSETTO:-0500
TZNAME:EST
DTSTART:20241103T060000
END:STANDARD
END:VTIMEZONE
BEGIN:VEVENT
DTSTART;TZID=America/Indiana/Indianapolis:20231214T173000
DTEND;TZID=America/Indiana/Indianapolis:20231214T200000
DTSTAMP:20260424T085448
CREATED:20230920T162447Z
LAST-MODIFIED:20230920T165252Z
UID:10002384-1702575000-1702584000@www.lejatc.com
SUMMARY:3rd Year: Apprenticeship
DESCRIPTION:
URL:https://www.lejatc.com/event/3rd-year-apprenticeship-2/2023-12-14
CATEGORIES:1st Semester,Class Schedule
END:VEVENT
BEGIN:VEVENT
DTSTART;TZID=America/Indiana/Indianapolis:20231214T173000
DTEND;TZID=America/Indiana/Indianapolis:20231214T200000
DTSTAMP:20260424T085448
CREATED:20230920T160846Z
LAST-MODIFIED:20230920T162051Z
UID:10002341-1702575000-1702584000@www.lejatc.com
SUMMARY:2nd Year: Apprenticeship
DESCRIPTION:
URL:https://www.lejatc.com/event/2nd-year-apprenticeship/2023-12-14
CATEGORIES:1st Semester,Class Schedule
END:VEVENT
BEGIN:VEVENT
DTSTART;TZID=America/Indiana/Indianapolis:20231213T173000
DTEND;TZID=America/Indiana/Indianapolis:20231213T200000
DTSTAMP:20260424T085448
CREATED:20230920T162618Z
LAST-MODIFIED:20230920T163349Z
UID:10002465-1702488600-1702497600@www.lejatc.com
SUMMARY:4th Year: Apprenticeship
DESCRIPTION:
URL:https://www.lejatc.com/event/4th-year-apprenticeship/2023-12-13
CATEGORIES:1st Semester
END:VEVENT
BEGIN:VEVENT
DTSTART;TZID=America/Indiana/Indianapolis:20231213T170000
DTEND;TZID=America/Indiana/Indianapolis:20231213T200000
DTSTAMP:20260424T085448
CREATED:20230920T164200Z
LAST-MODIFIED:20230920T164647Z
UID:10002607-1702486800-1702497600@www.lejatc.com
SUMMARY:TELECOMM 1\, 2 & 3
DESCRIPTION:
URL:https://www.lejatc.com/event/telecomm-1-23/2023-12-13
CATEGORIES:1st Semester,Class Schedule
END:VEVENT
BEGIN:VEVENT
DTSTART;TZID=America/Indiana/Indianapolis:20231213T170000
DTEND;TZID=America/Indiana/Indianapolis:20231213T200000
DTSTAMP:20260424T085448
CREATED:20230920T163041Z
LAST-MODIFIED:20230920T163041Z
UID:10002440-1702486800-1702497600@www.lejatc.com
SUMMARY:5th Year: Apprenticeship
DESCRIPTION:
URL:https://www.lejatc.com/event/5th-year-apprenticeship/2023-12-13
CATEGORIES:1st Semester,Class Schedule
END:VEVENT
BEGIN:VEVENT
DTSTART;TZID=America/Indiana/Indianapolis:20231213T170000
DTEND;TZID=America/Indiana/Indianapolis:20231213T200000
DTSTAMP:20260424T085448
CREATED:20230920T162913Z
LAST-MODIFIED:20230920T162913Z
UID:10002416-1702486800-1702497600@www.lejatc.com
SUMMARY:1st Year: Apprenticeship
DESCRIPTION:
URL:https://www.lejatc.com/event/1st-year-apprenticeship/2023-12-13
CATEGORIES:1st Semester,Class Schedule
END:VEVENT
BEGIN:VEVENT
DTSTART;TZID=America/Indiana/Indianapolis:20231212T180000
DTEND;TZID=America/Indiana/Indianapolis:20231212T200000
DTSTAMP:20260424T085448
CREATED:20230920T162403Z
LAST-MODIFIED:20230920T162403Z
UID:10002370-1702404000-1702411200@www.lejatc.com
SUMMARY:3rd Year: Communications
DESCRIPTION:
URL:https://www.lejatc.com/event/3rd-year-communications/2023-12-12
CATEGORIES:1st Semester,Class Schedule
END:VEVENT
BEGIN:VEVENT
DTSTART;TZID=America/Indiana/Indianapolis:20231212T173000
DTEND;TZID=America/Indiana/Indianapolis:20231212T200000
DTSTAMP:20260424T085448
CREATED:20230920T160846Z
LAST-MODIFIED:20230920T162051Z
UID:10002340-1702402200-1702411200@www.lejatc.com
SUMMARY:2nd Year: Apprenticeship
DESCRIPTION:
URL:https://www.lejatc.com/event/2nd-year-apprenticeship/2023-12-12
CATEGORIES:1st Semester,Class Schedule
END:VEVENT
BEGIN:VEVENT
DTSTART;TZID=America/Indiana/Indianapolis:20231207T173000
DTEND;TZID=America/Indiana/Indianapolis:20231207T200000
DTSTAMP:20260424T085448
CREATED:20230920T162447Z
LAST-MODIFIED:20230920T165252Z
UID:10002383-1701970200-1701979200@www.lejatc.com
SUMMARY:3rd Year: Apprenticeship
DESCRIPTION:
URL:https://www.lejatc.com/event/3rd-year-apprenticeship-2/2023-12-07
CATEGORIES:1st Semester,Class Schedule
END:VEVENT
BEGIN:VEVENT
DTSTART;TZID=America/Indiana/Indianapolis:20231207T173000
DTEND;TZID=America/Indiana/Indianapolis:20231207T200000
DTSTAMP:20260424T085448
CREATED:20230920T160846Z
LAST-MODIFIED:20230920T162051Z
UID:10002339-1701970200-1701979200@www.lejatc.com
SUMMARY:2nd Year: Apprenticeship
DESCRIPTION:
URL:https://www.lejatc.com/event/2nd-year-apprenticeship/2023-12-07
CATEGORIES:1st Semester,Class Schedule
END:VEVENT
BEGIN:VEVENT
DTSTART;TZID=America/Indiana/Indianapolis:20231206T173000
DTEND;TZID=America/Indiana/Indianapolis:20231206T200000
DTSTAMP:20260424T085448
CREATED:20230920T162618Z
LAST-MODIFIED:20230920T163349Z
UID:10002464-1701883800-1701892800@www.lejatc.com
SUMMARY:4th Year: Apprenticeship
DESCRIPTION:
URL:https://www.lejatc.com/event/4th-year-apprenticeship/2023-12-06
CATEGORIES:1st Semester
END:VEVENT
BEGIN:VEVENT
DTSTART;TZID=America/Indiana/Indianapolis:20231206T170000
DTEND;TZID=America/Indiana/Indianapolis:20231206T200000
DTSTAMP:20260424T085448
CREATED:20230920T164200Z
LAST-MODIFIED:20230920T164647Z
UID:10002606-1701882000-1701892800@www.lejatc.com
SUMMARY:TELECOMM 1\, 2 & 3
DESCRIPTION:
URL:https://www.lejatc.com/event/telecomm-1-23/2023-12-06
CATEGORIES:1st Semester,Class Schedule
END:VEVENT
BEGIN:VEVENT
DTSTART;TZID=America/Indiana/Indianapolis:20231206T170000
DTEND;TZID=America/Indiana/Indianapolis:20231206T200000
DTSTAMP:20260424T085448
CREATED:20230920T163041Z
LAST-MODIFIED:20230920T163041Z
UID:10002439-1701882000-1701892800@www.lejatc.com
SUMMARY:5th Year: Apprenticeship
DESCRIPTION:
URL:https://www.lejatc.com/event/5th-year-apprenticeship/2023-12-06
CATEGORIES:1st Semester,Class Schedule
END:VEVENT
BEGIN:VEVENT
DTSTART;TZID=America/Indiana/Indianapolis:20231206T170000
DTEND;TZID=America/Indiana/Indianapolis:20231206T200000
DTSTAMP:20260424T085448
CREATED:20230920T162913Z
LAST-MODIFIED:20230920T162913Z
UID:10002415-1701882000-1701892800@www.lejatc.com
SUMMARY:1st Year: Apprenticeship
DESCRIPTION:
URL:https://www.lejatc.com/event/1st-year-apprenticeship/2023-12-06
CATEGORIES:1st Semester,Class Schedule
END:VEVENT
BEGIN:VEVENT
DTSTART;TZID=America/Indiana/Indianapolis:20231205T180000
DTEND;TZID=America/Indiana/Indianapolis:20231205T200000
DTSTAMP:20260424T085448
CREATED:20230920T162403Z
LAST-MODIFIED:20230920T162403Z
UID:10002369-1701799200-1701806400@www.lejatc.com
SUMMARY:3rd Year: Communications
DESCRIPTION:
URL:https://www.lejatc.com/event/3rd-year-communications/2023-12-05
CATEGORIES:1st Semester,Class Schedule
END:VEVENT
BEGIN:VEVENT
DTSTART;TZID=America/Indiana/Indianapolis:20231205T173000
DTEND;TZID=America/Indiana/Indianapolis:20231205T200000
DTSTAMP:20260424T085448
CREATED:20230920T160846Z
LAST-MODIFIED:20230920T162051Z
UID:10002338-1701797400-1701806400@www.lejatc.com
SUMMARY:2nd Year: Apprenticeship
DESCRIPTION:
URL:https://www.lejatc.com/event/2nd-year-apprenticeship/2023-12-05
CATEGORIES:1st Semester,Class Schedule
END:VEVENT
BEGIN:VEVENT
DTSTART;TZID=America/Indiana/Indianapolis:20231204T173000
DTEND;TZID=America/Indiana/Indianapolis:20231204T200000
DTSTAMP:20260424T085448
CREATED:20230920T162618Z
LAST-MODIFIED:20230920T163349Z
UID:10002463-1701711000-1701720000@www.lejatc.com
SUMMARY:4th Year: Apprenticeship
DESCRIPTION:
URL:https://www.lejatc.com/event/4th-year-apprenticeship/2023-12-04
CATEGORIES:1st Semester
END:VEVENT
BEGIN:VEVENT
DTSTART;TZID=America/Indiana/Indianapolis:20231204T170000
DTEND;TZID=America/Indiana/Indianapolis:20231204T200000
DTSTAMP:20260424T085448
CREATED:20230920T164200Z
LAST-MODIFIED:20230920T164647Z
UID:10002605-1701709200-1701720000@www.lejatc.com
SUMMARY:TELECOMM 1\, 2 & 3
DESCRIPTION:
URL:https://www.lejatc.com/event/telecomm-1-23/2023-12-04
CATEGORIES:1st Semester,Class Schedule
END:VEVENT
BEGIN:VEVENT
DTSTART;TZID=America/Indiana/Indianapolis:20231204T170000
DTEND;TZID=America/Indiana/Indianapolis:20231204T200000
DTSTAMP:20260424T085448
CREATED:20230920T163041Z
LAST-MODIFIED:20230920T163041Z
UID:10002438-1701709200-1701720000@www.lejatc.com
SUMMARY:5th Year: Apprenticeship
DESCRIPTION:
URL:https://www.lejatc.com/event/5th-year-apprenticeship/2023-12-04
CATEGORIES:1st Semester,Class Schedule
END:VEVENT
BEGIN:VEVENT
DTSTART;TZID=America/Indiana/Indianapolis:20231130T173000
DTEND;TZID=America/Indiana/Indianapolis:20231130T200000
DTSTAMP:20260424T085448
CREATED:20230920T162447Z
LAST-MODIFIED:20230920T165252Z
UID:10002382-1701365400-1701374400@www.lejatc.com
SUMMARY:3rd Year: Apprenticeship
DESCRIPTION:
URL:https://www.lejatc.com/event/3rd-year-apprenticeship-2/2023-11-30
CATEGORIES:1st Semester,Class Schedule
END:VEVENT
BEGIN:VEVENT
DTSTART;TZID=America/Indiana/Indianapolis:20231130T173000
DTEND;TZID=America/Indiana/Indianapolis:20231130T200000
DTSTAMP:20260424T085448
CREATED:20230920T160846Z
LAST-MODIFIED:20230920T162051Z
UID:10002337-1701365400-1701374400@www.lejatc.com
SUMMARY:2nd Year: Apprenticeship
DESCRIPTION:
URL:https://www.lejatc.com/event/2nd-year-apprenticeship/2023-11-30
CATEGORIES:1st Semester,Class Schedule
END:VEVENT
BEGIN:VEVENT
DTSTART;TZID=America/Indiana/Indianapolis:20231129T173000
DTEND;TZID=America/Indiana/Indianapolis:20231129T200000
DTSTAMP:20260424T085448
CREATED:20230920T162618Z
LAST-MODIFIED:20230920T163349Z
UID:10002462-1701279000-1701288000@www.lejatc.com
SUMMARY:4th Year: Apprenticeship
DESCRIPTION:
URL:https://www.lejatc.com/event/4th-year-apprenticeship/2023-11-29
CATEGORIES:1st Semester
END:VEVENT
BEGIN:VEVENT
DTSTART;TZID=America/Indiana/Indianapolis:20231129T170000
DTEND;TZID=America/Indiana/Indianapolis:20231129T200000
DTSTAMP:20260424T085448
CREATED:20230920T164200Z
LAST-MODIFIED:20230920T164647Z
UID:10002604-1701277200-1701288000@www.lejatc.com
SUMMARY:TELECOMM 1\, 2 & 3
DESCRIPTION:
URL:https://www.lejatc.com/event/telecomm-1-23/2023-11-29
CATEGORIES:1st Semester,Class Schedule
END:VEVENT
BEGIN:VEVENT
DTSTART;TZID=America/Indiana/Indianapolis:20231129T170000
DTEND;TZID=America/Indiana/Indianapolis:20231129T200000
DTSTAMP:20260424T085448
CREATED:20230920T163041Z
LAST-MODIFIED:20230920T163041Z
UID:10002437-1701277200-1701288000@www.lejatc.com
SUMMARY:5th Year: Apprenticeship
DESCRIPTION:
URL:https://www.lejatc.com/event/5th-year-apprenticeship/2023-11-29
CATEGORIES:1st Semester,Class Schedule
END:VEVENT
BEGIN:VEVENT
DTSTART;TZID=America/Indiana/Indianapolis:20231129T170000
DTEND;TZID=America/Indiana/Indianapolis:20231129T200000
DTSTAMP:20260424T085448
CREATED:20230920T162913Z
LAST-MODIFIED:20230920T162913Z
UID:10002414-1701277200-1701288000@www.lejatc.com
SUMMARY:1st Year: Apprenticeship
DESCRIPTION:
URL:https://www.lejatc.com/event/1st-year-apprenticeship/2023-11-29
CATEGORIES:1st Semester,Class Schedule
END:VEVENT
BEGIN:VEVENT
DTSTART;TZID=America/Indiana/Indianapolis:20231128T180000
DTEND;TZID=America/Indiana/Indianapolis:20231128T200000
DTSTAMP:20260424T085448
CREATED:20230920T162403Z
LAST-MODIFIED:20230920T162403Z
UID:10002368-1701194400-1701201600@www.lejatc.com
SUMMARY:3rd Year: Communications
DESCRIPTION:
URL:https://www.lejatc.com/event/3rd-year-communications/2023-11-28
CATEGORIES:1st Semester,Class Schedule
END:VEVENT
BEGIN:VEVENT
DTSTART;TZID=America/Indiana/Indianapolis:20231128T173000
DTEND;TZID=America/Indiana/Indianapolis:20231128T200000
DTSTAMP:20260424T085448
CREATED:20230920T160846Z
LAST-MODIFIED:20230920T162051Z
UID:10002336-1701192600-1701201600@www.lejatc.com
SUMMARY:2nd Year: Apprenticeship
DESCRIPTION:
URL:https://www.lejatc.com/event/2nd-year-apprenticeship/2023-11-28
CATEGORIES:1st Semester,Class Schedule
END:VEVENT
BEGIN:VEVENT
DTSTART;TZID=America/Indiana/Indianapolis:20231127T173000
DTEND;TZID=America/Indiana/Indianapolis:20231127T200000
DTSTAMP:20260424T085448
CREATED:20230920T162618Z
LAST-MODIFIED:20230920T163349Z
UID:10002461-1701106200-1701115200@www.lejatc.com
SUMMARY:4th Year: Apprenticeship
DESCRIPTION:
URL:https://www.lejatc.com/event/4th-year-apprenticeship/2023-11-27
CATEGORIES:1st Semester
END:VEVENT
BEGIN:VEVENT
DTSTART;TZID=America/Indiana/Indianapolis:20231127T170000
DTEND;TZID=America/Indiana/Indianapolis:20231127T200000
DTSTAMP:20260424T085448
CREATED:20230920T164200Z
LAST-MODIFIED:20230920T164647Z
UID:10002603-1701104400-1701115200@www.lejatc.com
SUMMARY:TELECOMM 1\, 2 & 3
DESCRIPTION:
URL:https://www.lejatc.com/event/telecomm-1-23/2023-11-27
CATEGORIES:1st Semester,Class Schedule
END:VEVENT
BEGIN:VEVENT
DTSTART;TZID=America/Indiana/Indianapolis:20231127T170000
DTEND;TZID=America/Indiana/Indianapolis:20231127T200000
DTSTAMP:20260424T085448
CREATED:20230920T163041Z
LAST-MODIFIED:20230920T163041Z
UID:10002436-1701104400-1701115200@www.lejatc.com
SUMMARY:5th Year: Apprenticeship
DESCRIPTION:
URL:https://www.lejatc.com/event/5th-year-apprenticeship/2023-11-27
CATEGORIES:1st Semester,Class Schedule
END:VEVENT
END:VCALENDAR